BEGIN:VCALENDAR
VERSION:2.0
PRODID:-//Plone.org//NONSGML plone.app.event//EN
X-WR-TIMEZONE:America/Sao_Paulo
BEGIN:VEVENT
SUMMARY:1º Seminário Nacional de Pesquisa em Ciências Sociais Aplicadas
DTSTART;TZID=America/Sao_Paulo;VALUE=DATE-TIME:20250603T150000
DTEND;TZID=America/Sao_Paulo;VALUE=DATE-TIME:20250605T220000
DTSTAMP;VALUE=DATE-TIME:20260423T012310Z
UID:b145cd756a714cb1a8b335047e12a96b@portal.ufvjm.edu.br
CONTACT:https://www.even3.com.br/i-seminario-nacional-de-pesquisa-senape-4
 96023/
CREATED;VALUE=DATE-TIME:20250602T131816Z
DESCRIPTION:3 de junho
LAST-MODIFIED;VALUE=DATE-TIME:20250602T144315Z
LOCATION:Teófilo Otoni
URL:https://portal.ufvjm.edu.br/agendas/eventos/2025/1-seminario-nacional-
 de-pesquisa-em-ciencias-sociais-aplicadas
END:VEVENT
BEGIN:VTIMEZONE
TZID:America/Sao_Paulo
X-LIC-LOCATION:America/Sao_Paulo
BEGIN:STANDARD
DTSTART;VALUE=DATE-TIME:20250215T230000
TZNAME:BRT
TZOFFSETFROM:-0200
TZOFFSETTO:-0300
END:STANDARD
END:VTIMEZONE
END:VCALENDAR
