BEGIN:VCALENDAR
VERSION:2.0
PRODID:-//Plone.org//NONSGML plone.app.event//EN
X-WR-TIMEZONE:America/Sao_Paulo
BEGIN:VEVENT
SUMMARY:1º Dia de Campo em Bovinocultura de Leite  "Do campus para o camp
 o"
DTSTART;TZID=America/Sao_Paulo;VALUE=DATE-TIME:20250829T073000
DTEND;TZID=America/Sao_Paulo;VALUE=DATE-TIME:20250829T170000
DTSTAMP;VALUE=DATE-TIME:20260423T214025Z
UID:7923628d59594a558a6ece18f7a6b114@portal.ufvjm.edu.br
CREATED;VALUE=DATE-TIME:20250819T172806Z
DESCRIPTION:29 de agosto de 2025
LAST-MODIFIED;VALUE=DATE-TIME:20250819T175609Z
LOCATION:Diamantina
URL:https://portal.ufvjm.edu.br/agendas/eventos/2025/1-dia-de-campo-em-bov
 inocultura-de-leite-do-campus-para-o-campo
END:VEVENT
BEGIN:VTIMEZONE
TZID:America/Sao_Paulo
X-LIC-LOCATION:America/Sao_Paulo
BEGIN:STANDARD
DTSTART;VALUE=DATE-TIME:20250215T230000
TZNAME:BRT
TZOFFSETFROM:-0200
TZOFFSETTO:-0300
END:STANDARD
END:VTIMEZONE
END:VCALENDAR
