BEGIN:VCALENDAR
VERSION:2.0
PRODID:-//Plone.org//NONSGML plone.app.event//EN
X-WR-TIMEZONE:America/Sao_Paulo
BEGIN:VEVENT
SUMMARY:Workshop Matemática e Estatística da Tecnologia e Inovação
DTSTART;VALUE=DATE:20241031
DTEND;VALUE=DATE:20241102
DTSTAMP;VALUE=DATE-TIME:20260423T184147Z
UID:1979cc8bdfe74bfeab0b263ececf6938@portal.ufvjm.edu.br
CONTACT:https://sites.google.com/view/mathtecdiamantina2024/página-inicia
 l?authuser=2
CREATED;VALUE=DATE-TIME:20241018T180235Z
DESCRIPTION:31 de outubro e 1º de novembro
LAST-MODIFIED;VALUE=DATE-TIME:20241018T180311Z
LOCATION:Campus JK
URL:https://portal.ufvjm.edu.br/agendas/eventos/2024/workshop-matematica-e
 -estatistica-da-tecnologia-e-inovacao-1
END:VEVENT
END:VCALENDAR
