BEGIN:VCALENDAR
VERSION:2.0
PRODID:-//Plone.org//NONSGML plone.app.event//EN
X-WR-TIMEZONE:America/Sao_Paulo
BEGIN:VEVENT
SUMMARY:Seminário Interinstitucional: um 'espaço comum' da formação de
  professores da educação básica é realizado na UFVJM
DTSTART;TZID=America/Sao_Paulo;VALUE=DATE-TIME:20241101T190000
DTEND;TZID=America/Sao_Paulo;VALUE=DATE-TIME:20241101T200000
DTSTAMP;VALUE=DATE-TIME:20260423T020422Z
UID:46996daca26a4b32b6dcb11a8a8d0d5b@portal.ufvjm.edu.br
CONTACT:https://www.even3.com.br/cifopufvjm/
CREATED;VALUE=DATE-TIME:20241029T153336Z
DESCRIPTION:1º de novembro
LAST-MODIFIED;VALUE=DATE-TIME:20241029T160117Z
LOCATION:Campus I
URL:https://portal.ufvjm.edu.br/agendas/eventos/2024/seminario-interinstit
 ucional-um-espaco-comum-da-formacao-de-professores-da-educacao-basica-e-re
 alizado-na-ufvjm
END:VEVENT
BEGIN:VTIMEZONE
TZID:America/Sao_Paulo
X-LIC-LOCATION:America/Sao_Paulo
BEGIN:DAYLIGHT
DTSTART;VALUE=DATE-TIME:20241020T010000
TZNAME:BRST
TZOFFSETFROM:-0300
TZOFFSETTO:-0200
END:DAYLIGHT
END:VTIMEZONE
END:VCALENDAR
