BEGIN:VCALENDAR
VERSION:2.0
PRODID:-//Plone.org//NONSGML plone.app.event//EN
X-WR-TIMEZONE:America/Sao_Paulo
BEGIN:VEVENT
SUMMARY:Seminário de encerramento dos Programas de Bolsas de Iniciação 
 à Docência (Pibid) e Residência Pedagógica (PRP) da UFVJM
DTSTART;VALUE=DATE:20240327
DTEND;VALUE=DATE:20240328
DTSTAMP;VALUE=DATE-TIME:20260423T004544Z
UID:befd25d68176466abed4386b6f4b3748@portal.ufvjm.edu.br
CONTACT:https://www.even3.com.br/ivenid/
CREATED;VALUE=DATE-TIME:20240327T191607Z
DESCRIPTION:27 de março
LAST-MODIFIED;VALUE=DATE-TIME:20240327T192109Z
LOCATION:Evento on-line
URL:https://portal.ufvjm.edu.br/agendas/eventos/2024/seminario-de-encerram
 ento-dos-programas-de-bolsas-de-iniciacao-a-docencia-pibid-e-residencia-pe
 dagogica-prp-da-ufvjm
END:VEVENT
END:VCALENDAR
