BEGIN:VCALENDAR
VERSION:2.0
PRODID:-//Plone.org//NONSGML plone.app.event//EN
X-WR-TIMEZONE:America/Sao_Paulo
BEGIN:VEVENT
SUMMARY:Recepção de estudantes ingressantes da FAMMUC
DTSTART;VALUE=DATE:20241209
DTEND;VALUE=DATE:20241214
DTSTAMP;VALUE=DATE-TIME:20260424T002621Z
UID:eeaf7eefbe2c40eb9b2f7a7c1f9a7754@portal.ufvjm.edu.br
CREATED;VALUE=DATE-TIME:20241202T193211Z
DESCRIPTION:9 a 13 de dezembro
LAST-MODIFIED;VALUE=DATE-TIME:20241202T194716Z
LOCATION:Campus do Mucuri
URL:https://portal.ufvjm.edu.br/agendas/eventos/2024/recepcao-de-estudante
 s-ingressantes-da-fammuc
END:VEVENT
END:VCALENDAR
