BEGIN:VCALENDAR
VERSION:2.0
PRODID:-//Plone.org//NONSGML plone.app.event//EN
X-WR-TIMEZONE:America/Sao_Paulo
BEGIN:VEVENT
SUMMARY:Quarta edição da Live da Gestão
DTSTART;TZID=America/Sao_Paulo;VALUE=DATE-TIME:20240617T100000
DTSTAMP;VALUE=DATE-TIME:20260423T123120Z
UID:de0efcfe4c0e4daf88c0bf3c8a95b658@portal.ufvjm.edu.br
CONTACT:https://www.youtube.com/ufvjmoficial
CREATED;VALUE=DATE-TIME:20240614T190658Z
DESCRIPTION:17 de junho
LAST-MODIFIED;VALUE=DATE-TIME:20240614T192820Z
LOCATION:Evento on-line
URL:https://portal.ufvjm.edu.br/agendas/eventos/2024/quarta-edicao-da-live
 -da-gestao
END:VEVENT
BEGIN:VTIMEZONE
TZID:America/Sao_Paulo
X-LIC-LOCATION:America/Sao_Paulo
BEGIN:STANDARD
DTSTART;VALUE=DATE-TIME:20240217T230000
TZNAME:BRT
TZOFFSETFROM:-0200
TZOFFSETTO:-0300
END:STANDARD
END:VTIMEZONE
END:VCALENDAR
