BEGIN:VCALENDAR
VERSION:2.0
PRODID:-//Plone.org//NONSGML plone.app.event//EN
X-WR-TIMEZONE:America/Sao_Paulo
BEGIN:VEVENT
SUMMARY:Programa de capacitação em produção de conteúdos digitais
DTSTART;TZID=America/Sao_Paulo;VALUE=DATE-TIME:20240827T140000
DTEND;TZID=America/Sao_Paulo;VALUE=DATE-TIME:20241126T160000
DTSTAMP;VALUE=DATE-TIME:20260423T020103Z
UID:25b2f79b22f84022b8d313a644ee0234@portal.ufvjm.edu.br
CONTACT:https://forms.gle/TEmsBZqGKVbyM32bA
CREATED;VALUE=DATE-TIME:20240821T223440Z
DESCRIPTION:27 de agosto a 26 de novembro
LAST-MODIFIED;VALUE=DATE-TIME:20240822T151828Z
LOCATION:Campus JK
URL:https://portal.ufvjm.edu.br/agendas/eventos/2024/programa-de-capacitac
 ao-em-producao-de-conteudos-digitais
END:VEVENT
BEGIN:VTIMEZONE
TZID:America/Sao_Paulo
X-LIC-LOCATION:America/Sao_Paulo
BEGIN:DAYLIGHT
DTSTART;VALUE=DATE-TIME:20241020T010000
TZNAME:BRST
TZOFFSETFROM:-0300
TZOFFSETTO:-0200
END:DAYLIGHT
BEGIN:STANDARD
DTSTART;VALUE=DATE-TIME:20240217T230000
TZNAME:BRT
TZOFFSETFROM:-0200
TZOFFSETTO:-0300
END:STANDARD
END:VTIMEZONE
END:VCALENDAR
