BEGIN:VCALENDAR
VERSION:2.0
PRODID:-//Plone.org//NONSGML plone.app.event//EN
X-WR-TIMEZONE:America/Sao_Paulo
BEGIN:VEVENT
SUMMARY:Pint of Science 2024
DTSTART;TZID=America/Sao_Paulo;VALUE=DATE-TIME:20240513T190000
DTEND;TZID=America/Sao_Paulo;VALUE=DATE-TIME:20240515T200000
DTSTAMP;VALUE=DATE-TIME:20260423T000633Z
UID:67b54b6a42a54a13ad58cb47baadc12a@portal.ufvjm.edu.br
CONTACT:https://pintofscience.com.br/
CREATED;VALUE=DATE-TIME:20240513T193016Z
DESCRIPTION:13 a 15 de maio
LAST-MODIFIED;VALUE=DATE-TIME:20240513T200017Z
LOCATION:Diamantina e Janaúba
URL:https://portal.ufvjm.edu.br/agendas/eventos/2024/pint-of-science-2024
END:VEVENT
BEGIN:VTIMEZONE
TZID:America/Sao_Paulo
X-LIC-LOCATION:America/Sao_Paulo
BEGIN:STANDARD
DTSTART;VALUE=DATE-TIME:20240217T230000
TZNAME:BRT
TZOFFSETFROM:-0200
TZOFFSETTO:-0300
END:STANDARD
END:VTIMEZONE
END:VCALENDAR
