BEGIN:VCALENDAR
VERSION:2.0
PRODID:-//Plone.org//NONSGML plone.app.event//EN
X-WR-TIMEZONE:America/Sao_Paulo
BEGIN:VEVENT
SUMMARY:Permanência em debate na UFVJM
DTSTART;TZID=America/Sao_Paulo;VALUE=DATE-TIME:20241024T090000
DTEND;TZID=America/Sao_Paulo;VALUE=DATE-TIME:20241113T190000
DTSTAMP;VALUE=DATE-TIME:20260423T145957Z
UID:59a68dca18f8471ca8f407802268fda5@portal.ufvjm.edu.br
CREATED;VALUE=DATE-TIME:20241016T175228Z
DESCRIPTION:24 de outubro a 13 de novembro
LAST-MODIFIED;VALUE=DATE-TIME:20241025T150017Z
LOCATION:Diamantina\, Janaúba\, Teófilo Otoni e Unaí
URL:https://portal.ufvjm.edu.br/agendas/eventos/2024/permanencia-em-debate
 -na-ufvjm
END:VEVENT
BEGIN:VTIMEZONE
TZID:America/Sao_Paulo
X-LIC-LOCATION:America/Sao_Paulo
BEGIN:DAYLIGHT
DTSTART;VALUE=DATE-TIME:20241020T010000
TZNAME:BRST
TZOFFSETFROM:-0300
TZOFFSETTO:-0200
END:DAYLIGHT
END:VTIMEZONE
END:VCALENDAR
