BEGIN:VCALENDAR
VERSION:2.0
PRODID:-//Plone.org//NONSGML plone.app.event//EN
X-WR-TIMEZONE:America/Sao_Paulo
BEGIN:VEVENT
SUMMARY:Palestra "O esporte em apoio à saúde mental”
DTSTART;TZID=America/Sao_Paulo;VALUE=DATE-TIME:20240829T200000
DTEND;TZID=America/Sao_Paulo;VALUE=DATE-TIME:20240829T210000
DTSTAMP;VALUE=DATE-TIME:20260423T020435Z
UID:1a31fdd389d044f8bd5a4c73422f2559@portal.ufvjm.edu.br
CONTACT:https://www.youtube.com/@atletaporproposito
CREATED;VALUE=DATE-TIME:20240821T192340Z
DESCRIPTION:29 de agosto
LAST-MODIFIED;VALUE=DATE-TIME:20240821T193824Z
LOCATION:Evento on-line
URL:https://portal.ufvjm.edu.br/agendas/eventos/2024/palestra-o-esporte-em
 -apoio-a-saude-mental201d
END:VEVENT
BEGIN:VTIMEZONE
TZID:America/Sao_Paulo
X-LIC-LOCATION:America/Sao_Paulo
BEGIN:STANDARD
DTSTART;VALUE=DATE-TIME:20240217T230000
TZNAME:BRT
TZOFFSETFROM:-0200
TZOFFSETTO:-0300
END:STANDARD
END:VTIMEZONE
END:VCALENDAR
