BEGIN:VCALENDAR
VERSION:2.0
PRODID:-//Plone.org//NONSGML plone.app.event//EN
X-WR-TIMEZONE:America/Sao_Paulo
BEGIN:VEVENT
SUMMARY:Palestra O Combate ao Assédio Sexual na UFVJM
DTSTART;TZID=America/Sao_Paulo;VALUE=DATE-TIME:20240712T140000
DTEND;TZID=America/Sao_Paulo;VALUE=DATE-TIME:20240712T150000
DTSTAMP;VALUE=DATE-TIME:20260423T035339Z
UID:6628889f43a243809a8e44c14c18b26c@portal.ufvjm.edu.br
CREATED;VALUE=DATE-TIME:20240712T174139Z
DESCRIPTION:18 de julho de 2024
LAST-MODIFIED;VALUE=DATE-TIME:20240712T174153Z
URL:https://portal.ufvjm.edu.br/agendas/eventos/2024/palestra-o-combate-ao
 -assedio-sexual-na-ufvjm
END:VEVENT
BEGIN:VTIMEZONE
TZID:America/Sao_Paulo
X-LIC-LOCATION:America/Sao_Paulo
BEGIN:STANDARD
DTSTART;VALUE=DATE-TIME:20240217T230000
TZNAME:BRT
TZOFFSETFROM:-0200
TZOFFSETTO:-0300
END:STANDARD
END:VTIMEZONE
END:VCALENDAR
