BEGIN:VCALENDAR
VERSION:2.0
PRODID:-//Plone.org//NONSGML plone.app.event//EN
X-WR-TIMEZONE:America/Sao_Paulo
BEGIN:VEVENT
SUMMARY:Palestra “Fiocruz: produzindo ciência e contribuindo para a edu
 cação”
DTSTART;TZID=America/Sao_Paulo;VALUE=DATE-TIME:20241021T103000
DTSTAMP;VALUE=DATE-TIME:20260424T164311Z
UID:668b4888bdd74d768549ca1fc5340a7a@portal.ufvjm.edu.br
CONTACT:https://www.youtube.com/live/Hj-4ZstaHlk
CREATED;VALUE=DATE-TIME:20241010T192815Z
DESCRIPTION:21 de outubro
LAST-MODIFIED;VALUE=DATE-TIME:20241010T193832Z
LOCATION:Evento on-line
URL:https://portal.ufvjm.edu.br/agendas/eventos/2024/palestra-fiocruz-prod
 uzindo-ciencia-e-contribuindo-para-a-educacao
END:VEVENT
BEGIN:VTIMEZONE
TZID:America/Sao_Paulo
X-LIC-LOCATION:America/Sao_Paulo
BEGIN:DAYLIGHT
DTSTART;VALUE=DATE-TIME:20241020T010000
TZNAME:BRST
TZOFFSETFROM:-0300
TZOFFSETTO:-0200
END:DAYLIGHT
END:VTIMEZONE
END:VCALENDAR
