BEGIN:VCALENDAR
VERSION:2.0
PRODID:-//Plone.org//NONSGML plone.app.event//EN
X-WR-TIMEZONE:America/Sao_Paulo
BEGIN:VEVENT
SUMMARY:Mostra de Profissões #VempraUFVJM - Campus Unaí
DTSTART;TZID=America/Sao_Paulo;VALUE=DATE-TIME:20240607T080000
DTEND;TZID=America/Sao_Paulo;VALUE=DATE-TIME:20240607T170000
DTSTAMP;VALUE=DATE-TIME:20260423T055945Z
UID:cf8b5ff3fa7045348a686b7acd990a50@portal.ufvjm.edu.br
CONTACT:https://portal.ufvjm.edu.br/dicom/eventos-institucionais/mostra-de
 -profissoes-vem-pra-ufvjm/2024/
CREATED;VALUE=DATE-TIME:20240605T202056Z
DESCRIPTION:7 de junho
LAST-MODIFIED;VALUE=DATE-TIME:20240605T204516Z
LOCATION:Campus Unaí
URL:https://portal.ufvjm.edu.br/agendas/eventos/2024/mostra-de-profissoes-
 vempraufvjm-campus-unai
END:VEVENT
BEGIN:VTIMEZONE
TZID:America/Sao_Paulo
X-LIC-LOCATION:America/Sao_Paulo
BEGIN:STANDARD
DTSTART;VALUE=DATE-TIME:20240217T230000
TZNAME:BRT
TZOFFSETFROM:-0200
TZOFFSETTO:-0300
END:STANDARD
END:VTIMEZONE
END:VCALENDAR
