BEGIN:VCALENDAR
VERSION:2.0
PRODID:-//Plone.org//NONSGML plone.app.event//EN
X-WR-TIMEZONE:America/Sao_Paulo
BEGIN:VEVENT
SUMMARY:Mostra de Profissões #VempraUFVJM - Campus JK
DTSTART;TZID=America/Sao_Paulo;VALUE=DATE-TIME:20240628T080000
DTEND;TZID=America/Sao_Paulo;VALUE=DATE-TIME:20240628T170000
DTSTAMP;VALUE=DATE-TIME:20260423T024928Z
UID:f58ec1079a544e92a03bc71cb1f02a21@portal.ufvjm.edu.br
CONTACT:https://portal.ufvjm.edu.br/dicom/eventos-institucionais/mostra-de
 -profissoes-vem-pra-ufvjm/2024/
CREATED;VALUE=DATE-TIME:20240626T201058Z
DESCRIPTION:28 de junho
LAST-MODIFIED;VALUE=DATE-TIME:20240626T203959Z
LOCATION:Campus JK
URL:https://portal.ufvjm.edu.br/agendas/eventos/2024/mostra-de-profissoes-
 vempraufvjm-campus-jk
END:VEVENT
BEGIN:VTIMEZONE
TZID:America/Sao_Paulo
X-LIC-LOCATION:America/Sao_Paulo
BEGIN:STANDARD
DTSTART;VALUE=DATE-TIME:20240217T230000
TZNAME:BRT
TZOFFSETFROM:-0200
TZOFFSETTO:-0300
END:STANDARD
END:VTIMEZONE
END:VCALENDAR
