BEGIN:VCALENDAR
VERSION:2.0
PRODID:-//Plone.org//NONSGML plone.app.event//EN
X-WR-TIMEZONE:America/Sao_Paulo
BEGIN:VEVENT
SUMMARY:Mostra de Profissões #VempraUFVJM - Campus do Mucuri
DTSTART;VALUE=DATE:20240524
DTEND;VALUE=DATE:20240525
DTSTAMP;VALUE=DATE-TIME:20260423T183452Z
UID:86188428da2443478c5fd112223e9d0a@portal.ufvjm.edu.br
CONTACT:https://portal.ufvjm.edu.br/dicom/eventos-institucionais/mostra-de
 -profissoes-vem-pra-ufvjm/2024/
CREATED;VALUE=DATE-TIME:20240520T212235Z
DESCRIPTION:24 de maio
LAST-MODIFIED;VALUE=DATE-TIME:20240521T112426Z
LOCATION:Campus do Mucuri
URL:https://portal.ufvjm.edu.br/agendas/eventos/2024/mostra-de-profissoes-
 vempraufvjm-campus-do-mucuri
END:VEVENT
END:VCALENDAR
