BEGIN:VCALENDAR
VERSION:2.0
PRODID:-//Plone.org//NONSGML plone.app.event//EN
X-WR-TIMEZONE:America/Sao_Paulo
BEGIN:VEVENT
SUMMARY:Mesa-Redonda: Tecnologias digitais no ensino e aprendizagem de lí
 nguas estrangeiras
DTSTART;TZID=America/Sao_Paulo;VALUE=DATE-TIME:20241121T193000
DTEND;TZID=America/Sao_Paulo;VALUE=DATE-TIME:20241121T203000
DTSTAMP;VALUE=DATE-TIME:20260423T005712Z
UID:2222b35d2da741ed9f3426d52065192d@portal.ufvjm.edu.br
CREATED;VALUE=DATE-TIME:20241113T175928Z
DESCRIPTION:21 de novembro
LAST-MODIFIED;VALUE=DATE-TIME:20241113T181847Z
LOCATION:Evento on-line
URL:https://portal.ufvjm.edu.br/agendas/eventos/2024/mesa-redonda-tecnolog
 ias-digitais-no-ensino-e-aprendizagem-de-linguas-estrangeiras
END:VEVENT
BEGIN:VTIMEZONE
TZID:America/Sao_Paulo
X-LIC-LOCATION:America/Sao_Paulo
BEGIN:DAYLIGHT
DTSTART;VALUE=DATE-TIME:20241020T010000
TZNAME:BRST
TZOFFSETFROM:-0300
TZOFFSETTO:-0200
END:DAYLIGHT
END:VTIMEZONE
END:VCALENDAR
