BEGIN:VCALENDAR
VERSION:2.0
PRODID:-//Plone.org//NONSGML plone.app.event//EN
X-WR-TIMEZONE:America/Sao_Paulo
BEGIN:VEVENT
SUMMARY:Live sobre processo de Seleção Seriada da UFVJM (SASI)
DTSTART;TZID=America/Sao_Paulo;VALUE=DATE-TIME:20240807T100000
DTEND;TZID=America/Sao_Paulo;VALUE=DATE-TIME:20240807T110000
DTSTAMP;VALUE=DATE-TIME:20260423T020112Z
UID:3110b9188de247b8b594a9265cb8588e@portal.ufvjm.edu.br
CONTACT:https://www.youtube.com/@UFVJMOficial
CREATED;VALUE=DATE-TIME:20240802T180408Z
DESCRIPTION:7 de agosto
LAST-MODIFIED;VALUE=DATE-TIME:20240806T203406Z
LOCATION:Evento on-line
URL:https://portal.ufvjm.edu.br/agendas/eventos/2024/live-sobre-processo-d
 e-selecao-seriada-da-ufvjm-sasi
END:VEVENT
BEGIN:VTIMEZONE
TZID:America/Sao_Paulo
X-LIC-LOCATION:America/Sao_Paulo
BEGIN:STANDARD
DTSTART;VALUE=DATE-TIME:20240217T230000
TZNAME:BRT
TZOFFSETFROM:-0200
TZOFFSETTO:-0300
END:STANDARD
END:VTIMEZONE
END:VCALENDAR
