BEGIN:VCALENDAR
VERSION:2.0
PRODID:-//Plone.org//NONSGML plone.app.event//EN
X-WR-TIMEZONE:America/Sao_Paulo
BEGIN:VEVENT
SUMMARY:Live da Gestão
DTSTART;TZID=America/Sao_Paulo;VALUE=DATE-TIME:20240423T100000
DTSTAMP;VALUE=DATE-TIME:20260423T020105Z
UID:3d2ae78ea3824b4fb5069be79d4990da@portal.ufvjm.edu.br
CONTACT:https://www.youtube.com/@UFVJMOficial
CREATED;VALUE=DATE-TIME:20240422T175955Z
DESCRIPTION:23 de abril de 2024
LAST-MODIFIED;VALUE=DATE-TIME:20240422T180329Z
LOCATION:Evento on-line
URL:https://portal.ufvjm.edu.br/agendas/eventos/2024/live-da-gestao
END:VEVENT
BEGIN:VTIMEZONE
TZID:America/Sao_Paulo
X-LIC-LOCATION:America/Sao_Paulo
BEGIN:STANDARD
DTSTART;VALUE=DATE-TIME:20240217T230000
TZNAME:BRT
TZOFFSETFROM:-0200
TZOFFSETTO:-0300
END:STANDARD
END:VTIMEZONE
END:VCALENDAR
