BEGIN:VCALENDAR
VERSION:2.0
PRODID:-//Plone.org//NONSGML plone.app.event//EN
X-WR-TIMEZONE:America/Sao_Paulo
BEGIN:VEVENT
SUMMARY:Live da Gestão
DTSTART;TZID=America/Sao_Paulo;VALUE=DATE-TIME:20240712T100000
DTSTAMP;VALUE=DATE-TIME:20260423T004818Z
UID:a60b1cf31c8a412e8911f862ff09c66f@portal.ufvjm.edu.br
CONTACT:https://www.youtube.com/ufvjmoficial
CREATED;VALUE=DATE-TIME:20240711T202855Z
DESCRIPTION:12 de julho
LAST-MODIFIED;VALUE=DATE-TIME:20240712T115414Z
LOCATION:Evento on-line
URL:https://portal.ufvjm.edu.br/agendas/eventos/2024/live-da-gestao-1
END:VEVENT
BEGIN:VTIMEZONE
TZID:America/Sao_Paulo
X-LIC-LOCATION:America/Sao_Paulo
BEGIN:STANDARD
DTSTART;VALUE=DATE-TIME:20240217T230000
TZNAME:BRT
TZOFFSETFROM:-0200
TZOFFSETTO:-0300
END:STANDARD
END:VTIMEZONE
END:VCALENDAR
