BEGIN:VCALENDAR
VERSION:2.0
PRODID:-//Plone.org//NONSGML plone.app.event//EN
X-WR-TIMEZONE:America/Sao_Paulo
BEGIN:VEVENT
SUMMARY:Fórum Técnico Minas Gerais pela Ciência
DTSTART;TZID=America/Sao_Paulo;VALUE=DATE-TIME:20240823T080000
DTEND;TZID=America/Sao_Paulo;VALUE=DATE-TIME:20240823T180000
DTSTAMP;VALUE=DATE-TIME:20260423T020159Z
UID:0e45da745b874a829fe21c513efa2c46@portal.ufvjm.edu.br
CONTACT:https://link.almg.gov.br/yvfdvuhokd
CREATED;VALUE=DATE-TIME:20240814T114426Z
DESCRIPTION:23 de agosto
LAST-MODIFIED;VALUE=DATE-TIME:20240814T134821Z
LOCATION:Campus JK
URL:https://portal.ufvjm.edu.br/agendas/eventos/2024/forum-tecnico-minas-g
 erais-pela-ciencia
END:VEVENT
BEGIN:VTIMEZONE
TZID:America/Sao_Paulo
X-LIC-LOCATION:America/Sao_Paulo
BEGIN:STANDARD
DTSTART;VALUE=DATE-TIME:20240217T230000
TZNAME:BRT
TZOFFSETFROM:-0200
TZOFFSETTO:-0300
END:STANDARD
END:VTIMEZONE
END:VCALENDAR
