BEGIN:VCALENDAR
VERSION:2.0
PRODID:-//Plone.org//NONSGML plone.app.event//EN
X-WR-TIMEZONE:America/Sao_Paulo
BEGIN:VEVENT
SUMMARY:Fórum Técnico Minas Gerais pela Ciência
DTSTART;VALUE=DATE:20241125
DTEND;VALUE=DATE:20241128
DTSTAMP;VALUE=DATE-TIME:20260422T081910Z
UID:d46693ca5cf142f5b6d13bb8fc95ecf2@portal.ufvjm.edu.br
CONTACT:https://eventos.almg.gov.br/formulario/79
CREATED;VALUE=DATE-TIME:20241119T150855Z
DESCRIPTION:25 a 27 de novembro
LAST-MODIFIED;VALUE=DATE-TIME:20241119T151010Z
LOCATION:Belo Horizonte/MG
URL:https://portal.ufvjm.edu.br/agendas/eventos/2024/forum-tecnico-minas-g
 erais-pela-ciencia-1
END:VEVENT
END:VCALENDAR
