BEGIN:VCALENDAR
VERSION:2.0
PRODID:-//Plone.org//NONSGML plone.app.event//EN
X-WR-TIMEZONE:America/Sao_Paulo
BEGIN:VEVENT
SUMMARY:Festivale 2024
DTSTART;VALUE=DATE:20240721
DTEND;VALUE=DATE:20240728
DTSTAMP;VALUE=DATE-TIME:20260423T020103Z
UID:d7f66fba02e344c6bfc88bf94994e389@portal.ufvjm.edu.br
CONTACT:https://docs.google.com/forms/d/e/1FAIpQLSf0gcUMSrI69IpW1cneoXObHT
 asYLeocqQ4TFybE4nSOxEwPg/viewform?pli=1
CREATED;VALUE=DATE-TIME:20240719T132055Z
DESCRIPTION:21 a 27 de julho
LAST-MODIFIED;VALUE=DATE-TIME:20240719T134327Z
LOCATION:Couto de Magalhães de Minas
URL:https://portal.ufvjm.edu.br/agendas/eventos/2024/festivale-2024
END:VEVENT
END:VCALENDAR
