BEGIN:VCALENDAR
VERSION:2.0
PRODID:-//Plone.org//NONSGML plone.app.event//EN
X-WR-TIMEZONE:America/Sao_Paulo
BEGIN:VEVENT
SUMMARY:Festival Nacional de Teatro de Teófilo Otoni em Diamantina
DTSTART;VALUE=DATE:20240524
DTEND;VALUE=DATE:20240529
DTSTAMP;VALUE=DATE-TIME:20260423T164756Z
UID:17f86fe9a820460c929d3f90f38dbe78@portal.ufvjm.edu.br
CONTACT:https://www.incena.org/
CREATED;VALUE=DATE-TIME:20240523T195037Z
DESCRIPTION:24 a 28 de maio
LAST-MODIFIED;VALUE=DATE-TIME:20240524T200332Z
LOCATION:Diamantina
URL:https://portal.ufvjm.edu.br/agendas/eventos/2024/festival-nacional-de-
 teatro-de-teofilo-otoni
END:VEVENT
END:VCALENDAR
