BEGIN:VCALENDAR
VERSION:2.0
PRODID:-//Plone.org//NONSGML plone.app.event//EN
X-WR-TIMEZONE:America/Sao_Paulo
BEGIN:VEVENT
SUMMARY:Exposição Passeios bordados a Diamantina - uma releitura da obra
  de Guignard
DTSTART;TZID=America/Sao_Paulo;VALUE=DATE-TIME:20240326T090000
DTEND;TZID=America/Sao_Paulo;VALUE=DATE-TIME:20240329T170000
DTSTAMP;VALUE=DATE-TIME:20260423T150813Z
UID:b93b20ebee094b5f85d14019d04a0381@portal.ufvjm.edu.br
CONTACT:https://www.instagram.com/tecendoafetosbordandoarte/
CREATED;VALUE=DATE-TIME:20240327T182437Z
DESCRIPTION:26 a 29 de março
LAST-MODIFIED;VALUE=DATE-TIME:20240327T190719Z
LOCATION:Subterrâneo Cultural - térreo da Secretaria Municipal de Cultur
 a de Diamantina
URL:https://portal.ufvjm.edu.br/agendas/eventos/2024/exposicao-passeios-bo
 rdados-a-diamantina-uma-releitura-da-obra-de-guignard
END:VEVENT
BEGIN:VTIMEZONE
TZID:America/Sao_Paulo
X-LIC-LOCATION:America/Sao_Paulo
BEGIN:STANDARD
DTSTART;VALUE=DATE-TIME:20240217T230000
TZNAME:BRT
TZOFFSETFROM:-0200
TZOFFSETTO:-0300
END:STANDARD
END:VTIMEZONE
END:VCALENDAR
