BEGIN:VCALENDAR
VERSION:2.0
PRODID:-//Plone.org//NONSGML plone.app.event//EN
X-WR-TIMEZONE:America/Sao_Paulo
BEGIN:VEVENT
SUMMARY:Exposição Ciência Nossa de Cada Dia
DTSTART;VALUE=DATE:20240425
DTEND;VALUE=DATE:20240427
DTSTAMP;VALUE=DATE-TIME:20260423T020115Z
UID:afe96403bd4447a28c2ed074cb0df482@portal.ufvjm.edu.br
CREATED;VALUE=DATE-TIME:20240422T202303Z
DESCRIPTION:25 e 26 de abril
LAST-MODIFIED;VALUE=DATE-TIME:20240422T202318Z
LOCATION:Espaço do Parque da Ciência - Campus I
URL:https://portal.ufvjm.edu.br/agendas/eventos/2024/exposicao-ciencia-nos
 sa-de-cada-dia
END:VEVENT
END:VCALENDAR
