BEGIN:VCALENDAR
VERSION:2.0
PRODID:-//Plone.org//NONSGML plone.app.event//EN
X-WR-TIMEZONE:America/Sao_Paulo
BEGIN:VEVENT
SUMMARY:Eu também sou UFVJM
DTSTART;TZID=America/Sao_Paulo;VALUE=DATE-TIME:20240323T080000
DTSTAMP;VALUE=DATE-TIME:20260422T162448Z
UID:30d4518ee78c4429b2d276206513a678@portal.ufvjm.edu.br
CREATED;VALUE=DATE-TIME:20240320T134046Z
DESCRIPTION:23 de março
LAST-MODIFIED;VALUE=DATE-TIME:20240320T134920Z
LOCATION:Campus I - Diamantina/MG
URL:https://portal.ufvjm.edu.br/agendas/eventos/2024/eu-tambem-sou-ufvjm
END:VEVENT
BEGIN:VTIMEZONE
TZID:America/Sao_Paulo
X-LIC-LOCATION:America/Sao_Paulo
BEGIN:STANDARD
DTSTART;VALUE=DATE-TIME:20240217T230000
TZNAME:BRT
TZOFFSETFROM:-0200
TZOFFSETTO:-0300
END:STANDARD
END:VTIMEZONE
END:VCALENDAR
