BEGIN:VCALENDAR
VERSION:2.0
PRODID:-//Plone.org//NONSGML plone.app.event//EN
X-WR-TIMEZONE:America/Sao_Paulo
BEGIN:VEVENT
SUMMARY:Eleições 2024: condutas vedadas aos agentes públicos
DTSTART;TZID=America/Sao_Paulo;VALUE=DATE-TIME:20240703T143000
DTEND;TZID=America/Sao_Paulo;VALUE=DATE-TIME:20240703T153000
DTSTAMP;VALUE=DATE-TIME:20260423T035426Z
UID:34913fb37f80423b8991acdbeea20f56@portal.ufvjm.edu.br
CONTACT:https://www.youtube.com/@UFVJMOficial
CREATED;VALUE=DATE-TIME:20240702T192153Z
DESCRIPTION:3 de julho
LAST-MODIFIED;VALUE=DATE-TIME:20240702T192235Z
LOCATION:Evento on-line
URL:https://portal.ufvjm.edu.br/agendas/eventos/2024/eleicoes-2024-conduta
 s-vedadas-aos-agentes-publicos
END:VEVENT
BEGIN:VTIMEZONE
TZID:America/Sao_Paulo
X-LIC-LOCATION:America/Sao_Paulo
BEGIN:STANDARD
DTSTART;VALUE=DATE-TIME:20240217T230000
TZNAME:BRT
TZOFFSETFROM:-0200
TZOFFSETTO:-0300
END:STANDARD
END:VTIMEZONE
END:VCALENDAR
