BEGIN:VCALENDAR
VERSION:2.0
PRODID:-//Plone.org//NONSGML plone.app.event//EN
X-WR-TIMEZONE:America/Sao_Paulo
BEGIN:VEVENT
SUMMARY:Debate sobre pedagogia da alternância na pós-graduação
DTSTART;TZID=America/Sao_Paulo;VALUE=DATE-TIME:20240923T160000
DTEND;TZID=America/Sao_Paulo;VALUE=DATE-TIME:20240923T170000
DTSTAMP;VALUE=DATE-TIME:20260423T001046Z
UID:860f857a56c2412aaff4d9157b50c7ef@portal.ufvjm.edu.br
CONTACT:https://www.youtube.com/@estudosrurais/featured
CREATED;VALUE=DATE-TIME:20240913T195543Z
DESCRIPTION:23 de setembro
LAST-MODIFIED;VALUE=DATE-TIME:20240913T195755Z
LOCATION:Evento on-line
URL:https://portal.ufvjm.edu.br/agendas/eventos/2024/debate-sobre-pedagogi
 a-da-alternancia-na-pos-graduacao
END:VEVENT
BEGIN:VTIMEZONE
TZID:America/Sao_Paulo
X-LIC-LOCATION:America/Sao_Paulo
BEGIN:STANDARD
DTSTART;VALUE=DATE-TIME:20240217T230000
TZNAME:BRT
TZOFFSETFROM:-0200
TZOFFSETTO:-0300
END:STANDARD
END:VTIMEZONE
END:VCALENDAR
