BEGIN:VCALENDAR
VERSION:2.0
PRODID:-//Plone.org//NONSGML plone.app.event//EN
X-WR-TIMEZONE:America/Sao_Paulo
BEGIN:VEVENT
SUMMARY:Curso de prevenção do suicídio
DTSTART;VALUE=DATE:20240418
DTEND;VALUE=DATE:20240424
DTSTAMP;VALUE=DATE-TIME:20260423T072239Z
UID:7eb86bfb7a524beea82c84060e5dbf0e@portal.ufvjm.edu.br
CONTACT:https://www.even3.com.br/capacitacao-de-prevencao-do-suicidio-4510
 63/
CREATED;VALUE=DATE-TIME:20240415T203733Z
DESCRIPTION:18 e 23 de abril
LAST-MODIFIED;VALUE=DATE-TIME:20240417T131151Z
LOCATION:Evento on-line
URL:https://portal.ufvjm.edu.br/agendas/eventos/2024/curso-de-prevencao-do
 -suicidio
END:VEVENT
END:VCALENDAR
