BEGIN:VCALENDAR
VERSION:2.0
PRODID:-//Plone.org//NONSGML plone.app.event//EN
X-WR-TIMEZONE:America/Sao_Paulo
BEGIN:VEVENT
SUMMARY:Curso de Investigação Preliminar Sumária (IPS)
DTSTART;TZID=America/Sao_Paulo;VALUE=DATE-TIME:20241017T120000
DTEND;TZID=America/Sao_Paulo;VALUE=DATE-TIME:20241017T130000
DTSTAMP;VALUE=DATE-TIME:20260423T190537Z
UID:7e0cd0cfc90f49189d01c187f8dfbf2b@portal.ufvjm.edu.br
CONTACT:(38) 3532-6973\, https://docs.google.com/forms/d/e/1FAIpQLSeo6Pprp
 Y-PFU0oYzdd6_wQuxQBtdk8rZQ4IftTTviX5Hr_kg/viewform
CREATED;VALUE=DATE-TIME:20241017T153107Z
DESCRIPTION:21 a 25 de outubro
LAST-MODIFIED;VALUE=DATE-TIME:20241017T153112Z
LOCATION:Evento on-line
URL:https://portal.ufvjm.edu.br/agendas/eventos/2024/curso-de-investigacao
 -preliminar-sumaria-ips
END:VEVENT
BEGIN:VTIMEZONE
TZID:America/Sao_Paulo
X-LIC-LOCATION:America/Sao_Paulo
BEGIN:STANDARD
DTSTART;VALUE=DATE-TIME:20240217T230000
TZNAME:BRT
TZOFFSETFROM:-0200
TZOFFSETTO:-0300
END:STANDARD
END:VTIMEZONE
END:VCALENDAR
