BEGIN:VCALENDAR
VERSION:2.0
PRODID:-//Plone.org//NONSGML plone.app.event//EN
X-WR-TIMEZONE:America/Sao_Paulo
BEGIN:VEVENT
SUMMARY:Curso de formação em elaboração de projetos culturais\, arte e
  educomunicação
DTSTART;TZID=America/Sao_Paulo;VALUE=DATE-TIME:20240902T130000
DTEND;TZID=America/Sao_Paulo;VALUE=DATE-TIME:20240906T190000
DTSTAMP;VALUE=DATE-TIME:20260423T005632Z
UID:4506dc3cef7a41e691cf66d1168e06fc@portal.ufvjm.edu.br
CONTACT:https://docs.google.com/forms/d/e/1FAIpQLScDnudP6xcMZddZ17JGtV1hKY
 zoZLJLAMj3dQUCK5kCXPXNPA/viewform
CREATED;VALUE=DATE-TIME:20240722T193736Z
DESCRIPTION:de 2 a 6 de setembro
LAST-MODIFIED;VALUE=DATE-TIME:20240722T193757Z
LOCATION:Campus Janaúba
URL:https://portal.ufvjm.edu.br/agendas/eventos/2024/curso-de-formacao-em-
 elaboracao-de-projetos-culturais-arte-e-educomunicacao
END:VEVENT
BEGIN:VTIMEZONE
TZID:America/Sao_Paulo
X-LIC-LOCATION:America/Sao_Paulo
BEGIN:STANDARD
DTSTART;VALUE=DATE-TIME:20240217T230000
TZNAME:BRT
TZOFFSETFROM:-0200
TZOFFSETTO:-0300
END:STANDARD
END:VTIMEZONE
END:VCALENDAR
