BEGIN:VCALENDAR
VERSION:2.0
PRODID:-//Plone.org//NONSGML plone.app.event//EN
X-WR-TIMEZONE:America/Sao_Paulo
BEGIN:VEVENT
SUMMARY:Curso de extensão "Você quer ser vereador?"
DTSTART;VALUE=DATE:20240701
DTEND;VALUE=DATE:20240801
DTSTAMP;VALUE=DATE-TIME:20260422T234625Z
UID:90fabd0ba4ee42a19001c5e16b9a859b@portal.ufvjm.edu.br
CONTACT:https://docs.google.com/forms/d/e/1FAIpQLSeFj3HO8zdnpIUl9xJc-fTkw4
 jhODdgguwWPvcP9t2Il_5t4w/viewform
CREATED;VALUE=DATE-TIME:20240628T190331Z
DESCRIPTION:1º a 31 de julho
LAST-MODIFIED;VALUE=DATE-TIME:20240703T122325Z
LOCATION:Curso on-line
URL:https://portal.ufvjm.edu.br/agendas/eventos/2024/curso-de-extensao-voc
 e-quer-ser-vereador
END:VEVENT
END:VCALENDAR
