BEGIN:VCALENDAR
VERSION:2.0
PRODID:-//Plone.org//NONSGML plone.app.event//EN
X-WR-TIMEZONE:America/Sao_Paulo
BEGIN:VEVENT
SUMMARY:Curso de capacitação de prevenção do suicídio
DTSTART;TZID=America/Sao_Paulo;VALUE=DATE-TIME:20240711T183000
DTEND;TZID=America/Sao_Paulo;VALUE=DATE-TIME:20240716T223000
DTSTAMP;VALUE=DATE-TIME:20260423T035200Z
UID:78a2d8538454458aa60f5952dd897857@portal.ufvjm.edu.br
CONTACT:https://www.even3.com.br/capacitacao-prevencao-do-suicidio-473640/
CREATED;VALUE=DATE-TIME:20240709T194416Z
DESCRIPTION:11 e 16 de Julho
LAST-MODIFIED;VALUE=DATE-TIME:20240709T194425Z
LOCATION:Evento on-line
URL:https://portal.ufvjm.edu.br/agendas/eventos/2024/curso-de-capacitacao-
 de-prevencao-do-suicidio
END:VEVENT
BEGIN:VTIMEZONE
TZID:America/Sao_Paulo
X-LIC-LOCATION:America/Sao_Paulo
BEGIN:STANDARD
DTSTART;VALUE=DATE-TIME:20240217T230000
TZNAME:BRT
TZOFFSETFROM:-0200
TZOFFSETTO:-0300
END:STANDARD
END:VTIMEZONE
END:VCALENDAR
