BEGIN:VCALENDAR
VERSION:2.0
PRODID:-//Plone.org//NONSGML plone.app.event//EN
X-WR-TIMEZONE:America/Sao_Paulo
BEGIN:VEVENT
SUMMARY:Cultura Interligada
DTSTART;TZID=America/Sao_Paulo;VALUE=DATE-TIME:20240604T193000
DTEND;TZID=America/Sao_Paulo;VALUE=DATE-TIME:20241126T193000
DTSTAMP;VALUE=DATE-TIME:20260422T234612Z
UID:fc5d655c533b4f33b3d7c051e3d7aa9e@portal.ufvjm.edu.br
CONTACT:https://docs.google.com/forms/d/e/1FAIpQLScKT6PWmVnNtHx1beOShtOJT_
 FPqiYX0-FupAzTfIOsezFwFQ/viewform
CREATED;VALUE=DATE-TIME:20240603T211524Z
DESCRIPTION:4 de junho a 26 de novembro
LAST-MODIFIED;VALUE=DATE-TIME:20240603T214102Z
LOCATION:Evento Híbrido
URL:https://portal.ufvjm.edu.br/agendas/eventos/2024/cultura-interligada
END:VEVENT
BEGIN:VTIMEZONE
TZID:America/Sao_Paulo
X-LIC-LOCATION:America/Sao_Paulo
BEGIN:DAYLIGHT
DTSTART;VALUE=DATE-TIME:20241020T010000
TZNAME:BRST
TZOFFSETFROM:-0300
TZOFFSETTO:-0200
END:DAYLIGHT
BEGIN:STANDARD
DTSTART;VALUE=DATE-TIME:20240217T230000
TZNAME:BRT
TZOFFSETFROM:-0200
TZOFFSETTO:-0300
END:STANDARD
END:VTIMEZONE
END:VCALENDAR
