BEGIN:VCALENDAR
VERSION:2.0
PRODID:-//Plone.org//NONSGML plone.app.event//EN
X-WR-TIMEZONE:America/Sao_Paulo
BEGIN:VEVENT
SUMMARY:Cortejo Artístico Cultural Lendas ao Luar
DTSTART;TZID=America/Sao_Paulo;VALUE=DATE-TIME:20240830T193000
DTEND;TZID=America/Sao_Paulo;VALUE=DATE-TIME:20240830T203000
DTSTAMP;VALUE=DATE-TIME:20260423T020158Z
UID:7b75ff2cf78045369677ac27d2dc1205@portal.ufvjm.edu.br
CONTACT:https://www.instagram.com/proexc_ufvjm/
CREATED;VALUE=DATE-TIME:20240828T201445Z
DESCRIPTION:30 de agosto
LAST-MODIFIED;VALUE=DATE-TIME:20240829T133159Z
LOCATION:Diamantina
URL:https://portal.ufvjm.edu.br/agendas/eventos/2024/cortejo-artistico-cul
 tural-lendas-ao-luar-
END:VEVENT
BEGIN:VTIMEZONE
TZID:America/Sao_Paulo
X-LIC-LOCATION:America/Sao_Paulo
BEGIN:STANDARD
DTSTART;VALUE=DATE-TIME:20240217T230000
TZNAME:BRT
TZOFFSETFROM:-0200
TZOFFSETTO:-0300
END:STANDARD
END:VTIMEZONE
END:VCALENDAR
