BEGIN:VCALENDAR
VERSION:2.0
PRODID:-//Plone.org//NONSGML plone.app.event//EN
X-WR-TIMEZONE:America/Sao_Paulo
BEGIN:VEVENT
SUMMARY:Capacitação on-line sobre prevenção do suicídio e promoção 
 da saúde mental
DTSTART;TZID=America/Sao_Paulo;VALUE=DATE-TIME:20241210T190000
DTEND;TZID=America/Sao_Paulo;VALUE=DATE-TIME:20241217T200000
DTSTAMP;VALUE=DATE-TIME:20260423T020411Z
UID:ea6a86464acd45b99b99ecc360c7ff56@portal.ufvjm.edu.br
CONTACT:https://www.even3.com.br/prevencao-do-suicidio-e-promocao-da-saude
 -mental-517049/
CREATED;VALUE=DATE-TIME:20241202T203453Z
DESCRIPTION:10 a 17 de dezembro
LAST-MODIFIED;VALUE=DATE-TIME:20241203T151836Z
URL:https://portal.ufvjm.edu.br/agendas/eventos/2024/capacitacao-on-line-s
 obre-prevencao-do-suicidio-e-promocao-da-saude-mental
END:VEVENT
BEGIN:VTIMEZONE
TZID:America/Sao_Paulo
X-LIC-LOCATION:America/Sao_Paulo
BEGIN:DAYLIGHT
DTSTART;VALUE=DATE-TIME:20241020T010000
TZNAME:BRST
TZOFFSETFROM:-0300
TZOFFSETTO:-0200
END:DAYLIGHT
END:VTIMEZONE
END:VCALENDAR
