BEGIN:VCALENDAR
VERSION:2.0
PRODID:-//Plone.org//NONSGML plone.app.event//EN
X-WR-TIMEZONE:America/Sao_Paulo
BEGIN:VEVENT
SUMMARY:Café com PET: um bate-papo sobre diversidade\, racismo e negritud
 e
DTSTART;TZID=America/Sao_Paulo;VALUE=DATE-TIME:20240508T183000
DTEND;TZID=America/Sao_Paulo;VALUE=DATE-TIME:20240508T235900
DTSTAMP;VALUE=DATE-TIME:20260423T060002Z
UID:0303f6cec5c44e7aa809e85d41690ed3@portal.ufvjm.edu.br
RRULE:FREQ=MONTHLY;COUNT=7;BYMONTHDAY=1
RDATE;TZID=America/Sao_Paulo:20240515T000000,20240605T000000,20240710T0000
 00,20240807T000000,20240921T000000,20241001T000000,20241120T000000,2025012
 2T000000,20250212T000000,20250326T000000
EXDATE;TZID=America/Sao_Paulo:20240509T000000,20240510T000000,20240511T000
 000,20240512T000000,20240513T000000,20240514T000000,20240601T000000,202407
 01T000000,20240801T000000,20240901T000000,20241101T000000,20241201T000000
CONTACT:https://www.instagram.com/petconexaodossaberesufvjm/
CREATED;VALUE=DATE-TIME:20240429T203905Z
DESCRIPTION:8 de maio de 2024 a 26 de março de 2025
LAST-MODIFIED;VALUE=DATE-TIME:20240517T195646Z
LOCATION:Campus JK - Pavilhão 1
URL:https://portal.ufvjm.edu.br/agendas/eventos/2024/cafe-com-pet-um-bate-
 papo-sobre-diversidade-racismo-e-negritude
END:VEVENT
BEGIN:VTIMEZONE
TZID:America/Sao_Paulo
X-LIC-LOCATION:America/Sao_Paulo
BEGIN:STANDARD
DTSTART;VALUE=DATE-TIME:20240217T230000
TZNAME:BRT
TZOFFSETFROM:-0200
TZOFFSETTO:-0300
END:STANDARD
END:VTIMEZONE
END:VCALENDAR
