BEGIN:VCALENDAR
VERSION:2.0
PRODID:-//Plone.org//NONSGML plone.app.event//EN
X-WR-TIMEZONE:America/Sao_Paulo
BEGIN:VEVENT
SUMMARY:Agosto Lilás
DTSTART;TZID=America/Sao_Paulo;VALUE=DATE-TIME:20240828T180000
DTEND;TZID=America/Sao_Paulo;VALUE=DATE-TIME:20240828T190000
DTSTAMP;VALUE=DATE-TIME:20260423T020104Z
UID:f813cf42e5de46dea7d8a3105a610576@portal.ufvjm.edu.br
CREATED;VALUE=DATE-TIME:20240827T201257Z
DESCRIPTION:28 de agosto
LAST-MODIFIED;VALUE=DATE-TIME:20240827T222807Z
LOCATION:Campus JK
URL:https://portal.ufvjm.edu.br/agendas/eventos/2024/agosto-lilas
END:VEVENT
BEGIN:VTIMEZONE
TZID:America/Sao_Paulo
X-LIC-LOCATION:America/Sao_Paulo
BEGIN:STANDARD
DTSTART;VALUE=DATE-TIME:20240217T230000
TZNAME:BRT
TZOFFSETFROM:-0200
TZOFFSETTO:-0300
END:STANDARD
END:VTIMEZONE
END:VCALENDAR
