BEGIN:VCALENDAR
VERSION:2.0
PRODID:-//Plone.org//NONSGML plone.app.event//EN
X-WR-TIMEZONE:America/Sao_Paulo
BEGIN:VEVENT
SUMMARY:Agenda Cultural Integrada
DTSTART;VALUE=DATE:20240404
DTEND;VALUE=DATE:20240406
DTSTAMP;VALUE=DATE-TIME:20260424T162501Z
UID:cafecb4d1e86483da7172893aecfb65b@portal.ufvjm.edu.br
CONTACT:https://www.even3.com.br/agenda-cultural-integrada-abril-2024-4488
 37/
CREATED;VALUE=DATE-TIME:20240402T163112Z
DESCRIPTION:4 e 5 de abril
LAST-MODIFIED;VALUE=DATE-TIME:20240402T203628Z
URL:https://portal.ufvjm.edu.br/agendas/eventos/2024/agenda-cultural-integ
 rada
END:VEVENT
END:VCALENDAR
