BEGIN:VCALENDAR
VERSION:2.0
PRODID:-//Plone.org//NONSGML plone.app.event//EN
X-WR-TIMEZONE:America/Sao_Paulo
BEGIN:VEVENT
SUMMARY:Ações da UFVJM e Codevasf na Apicultura e Artesanato no Vale do 
 Jequitinhonha
DTSTART;VALUE=DATE:20240829
DTEND;VALUE=DATE:20240901
DTSTAMP;VALUE=DATE-TIME:20260423T035317Z
UID:3bdb9892a64b455a9d57620347cc09d7@portal.ufvjm.edu.br
CONTACT:https://www.youtube.com/@lproce-laboratoriodeproduc5035
CREATED;VALUE=DATE-TIME:20240828T191114Z
DESCRIPTION:29 a 31 de agosto
LAST-MODIFIED;VALUE=DATE-TIME:20240828T192349Z
LOCATION:Campus JK
URL:https://portal.ufvjm.edu.br/agendas/eventos/2024/acoes-da-ufvjm-e-code
 vasf-na-apicultura-e-artesanato-no-vale-do-jequitinhonha
END:VEVENT
END:VCALENDAR
