BEGIN:VCALENDAR
VERSION:2.0
PRODID:-//Plone.org//NONSGML plone.app.event//EN
X-WR-TIMEZONE:America/Sao_Paulo
BEGIN:VEVENT
SUMMARY:7º Encontro de Educação Matemática do Nordeste Mineiro
DTSTART;VALUE=DATE:20241023
DTEND;VALUE=DATE:20241026
DTSTAMP;VALUE=DATE-TIME:20260423T020115Z
UID:3783ab061496432ab197ae6be8db5040@portal.ufvjm.edu.br
CONTACT:https://cevibra.com.br/evento/vii-enemanm-vii-seminario-do-profmat
CREATED;VALUE=DATE-TIME:20241001T174632Z
DESCRIPTION:23 a 25 de outubro
LAST-MODIFIED;VALUE=DATE-TIME:20241001T175155Z
LOCATION:Campus do Mucuri
URL:https://portal.ufvjm.edu.br/agendas/eventos/2024/7-encontro-de-educaca
 o-matematica-do-nordeste-mineiro
END:VEVENT
END:VCALENDAR
