BEGIN:VCALENDAR
VERSION:2.0
PRODID:-//Plone.org//NONSGML plone.app.event//EN
X-WR-TIMEZONE:America/Sao_Paulo
BEGIN:VEVENT
SUMMARY:6º Fórum Mulheres na Política do Vale do Jequitinhonha
DTSTART;TZID=America/Sao_Paulo;VALUE=DATE-TIME:20240627T160000
DTEND;TZID=America/Sao_Paulo;VALUE=DATE-TIME:20240627T220000
DTSTAMP;VALUE=DATE-TIME:20260423T060828Z
UID:6b62b7f178b04d1f9184b9fd38bee5cf@portal.ufvjm.edu.br
CREATED;VALUE=DATE-TIME:20240624T201433Z
DESCRIPTION:27 de junho
LAST-MODIFIED;VALUE=DATE-TIME:20240624T201453Z
LOCATION:Campus JK
URL:https://portal.ufvjm.edu.br/agendas/eventos/2024/6-forum-mulheres-na-p
 olitica-do-vale-do-jequitinhonha
END:VEVENT
BEGIN:VTIMEZONE
TZID:America/Sao_Paulo
X-LIC-LOCATION:America/Sao_Paulo
BEGIN:STANDARD
DTSTART;VALUE=DATE-TIME:20240217T230000
TZNAME:BRT
TZOFFSETFROM:-0200
TZOFFSETTO:-0300
END:STANDARD
END:VTIMEZONE
END:VCALENDAR
