BEGIN:VCALENDAR
VERSION:2.0
PRODID:-//Plone.org//NONSGML plone.app.event//EN
X-WR-TIMEZONE:America/Sao_Paulo
BEGIN:VEVENT
SUMMARY:4ª Semana Acadêmica de Economia
DTSTART;TZID=America/Sao_Paulo;VALUE=DATE-TIME:20240603T190000
DTEND;TZID=America/Sao_Paulo;VALUE=DATE-TIME:20240607T200000
DTSTAMP;VALUE=DATE-TIME:20260423T020359Z
UID:1505cd3cb6114a18a71739bfbadcb702@portal.ufvjm.edu.br
CONTACT:https://www.even3.com.br/iv-semana-academica-de-ciencias-economica
 s-462711/
CREATED;VALUE=DATE-TIME:20240529T201037Z
DESCRIPTION:3 a 7 de junho
LAST-MODIFIED;VALUE=DATE-TIME:20240529T201619Z
LOCATION:Campus do Mucuri
URL:https://portal.ufvjm.edu.br/agendas/eventos/2024/4-semana-academica-de
 -economia
END:VEVENT
BEGIN:VTIMEZONE
TZID:America/Sao_Paulo
X-LIC-LOCATION:America/Sao_Paulo
BEGIN:STANDARD
DTSTART;VALUE=DATE-TIME:20240217T230000
TZNAME:BRT
TZOFFSETFROM:-0200
TZOFFSETTO:-0300
END:STANDARD
END:VTIMEZONE
END:VCALENDAR
