BEGIN:VCALENDAR
VERSION:2.0
PRODID:-//Plone.org//NONSGML plone.app.event//EN
X-WR-TIMEZONE:America/Sao_Paulo
BEGIN:VEVENT
SUMMARY:36º Encontro Regional da Sociedade Brasileira de Química de Mina
 s Gerais
DTSTART;TZID=America/Sao_Paulo;VALUE=DATE-TIME:20241122T090000
DTEND;TZID=America/Sao_Paulo;VALUE=DATE-TIME:20241124T100000
DTSTAMP;VALUE=DATE-TIME:20260423T152750Z
UID:bec0431aacb548b099eb462e1d1d1b9f@portal.ufvjm.edu.br
CONTACT:https://www.even3.com.br/ersbq2024/
CREATED;VALUE=DATE-TIME:20241122T120526Z
DESCRIPTION:22 a 24 de novembro
LAST-MODIFIED;VALUE=DATE-TIME:20241122T121448Z
LOCATION:Diamantina
URL:https://portal.ufvjm.edu.br/agendas/eventos/2024/36-encontro-regional-
 da-sociedade-brasileira-de-quimica-de-minas-gerais
END:VEVENT
BEGIN:VTIMEZONE
TZID:America/Sao_Paulo
X-LIC-LOCATION:America/Sao_Paulo
BEGIN:DAYLIGHT
DTSTART;VALUE=DATE-TIME:20241020T010000
TZNAME:BRST
TZOFFSETFROM:-0300
TZOFFSETTO:-0200
END:DAYLIGHT
END:VTIMEZONE
END:VCALENDAR
