BEGIN:VCALENDAR
VERSION:2.0
PRODID:-//Plone.org//NONSGML plone.app.event//EN
X-WR-TIMEZONE:America/Sao_Paulo
BEGIN:VEVENT
SUMMARY:3ª Semana de Ciência e Tecnologia
DTSTART;VALUE=DATE:20240618
DTEND;VALUE=DATE:20240622
DTSTAMP;VALUE=DATE-TIME:20260423T100909Z
UID:ff5a657833ef455695bfb976f8d70bf1@portal.ufvjm.edu.br
CONTACT:https://www.even3.com.br/sct2024/
CREATED;VALUE=DATE-TIME:20240327T171929Z
DESCRIPTION:18 a 21 de junho
LAST-MODIFIED;VALUE=DATE-TIME:20240327T180747Z
LOCATION:Campus JK - Diamantina/MG
URL:https://portal.ufvjm.edu.br/agendas/eventos/2024/3-semana-de-ciencia-e
 -tecnologia
END:VEVENT
END:VCALENDAR
