BEGIN:VCALENDAR
VERSION:2.0
PRODID:-//Plone.org//NONSGML plone.app.event//EN
X-WR-TIMEZONE:America/Sao_Paulo
BEGIN:VEVENT
SUMMARY:3º Fórum Nacional de Acesso ao Ensino Superior
DTSTART;TZID=America/Sao_Paulo;VALUE=DATE-TIME:20240904T140000
DTEND;TZID=America/Sao_Paulo;VALUE=DATE-TIME:20240907T150000
DTSTAMP;VALUE=DATE-TIME:20260423T060818Z
UID:664f481d8ddd4b098acc9061363bdd4c@portal.ufvjm.edu.br
CONTACT:https://www.even3.com.br/3fnaes/
CREATED;VALUE=DATE-TIME:20240726T171311Z
DESCRIPTION:4 a 7 de setembro
LAST-MODIFIED;VALUE=DATE-TIME:20240726T172445Z
LOCATION:Campus JK
URL:https://portal.ufvjm.edu.br/agendas/eventos/2024/3-forum-nacional-de-a
 cesso-ao-ensino-superior
END:VEVENT
BEGIN:VTIMEZONE
TZID:America/Sao_Paulo
X-LIC-LOCATION:America/Sao_Paulo
BEGIN:STANDARD
DTSTART;VALUE=DATE-TIME:20240217T230000
TZNAME:BRT
TZOFFSETFROM:-0200
TZOFFSETTO:-0300
END:STANDARD
END:VTIMEZONE
END:VCALENDAR
