BEGIN:VCALENDAR
VERSION:2.0
PRODID:-//Plone.org//NONSGML plone.app.event//EN
X-WR-TIMEZONE:America/Sao_Paulo
BEGIN:VEVENT
SUMMARY:2ª corrida e caminhada da UFVJM
DTSTART;TZID=America/Sao_Paulo;VALUE=DATE-TIME:20240630T080000
DTSTAMP;VALUE=DATE-TIME:20260423T020104Z
UID:982530fd819d478caf53055075cba77d@portal.ufvjm.edu.br
CONTACT:https://www.sympla.com.br/evento/2-corrida-e-caminhada-da-ufvjm/24
 89753
CREATED;VALUE=DATE-TIME:20240610T202747Z
DESCRIPTION:30 de junho
LAST-MODIFIED;VALUE=DATE-TIME:20240610T202859Z
LOCATION:Campus JK - Diamantina/MG
URL:https://portal.ufvjm.edu.br/agendas/eventos/2024/2-corrida-e-caminhada
 -da-ufvjm
END:VEVENT
BEGIN:VTIMEZONE
TZID:America/Sao_Paulo
X-LIC-LOCATION:America/Sao_Paulo
BEGIN:STANDARD
DTSTART;VALUE=DATE-TIME:20240217T230000
TZNAME:BRT
TZOFFSETFROM:-0200
TZOFFSETTO:-0300
END:STANDARD
END:VTIMEZONE
END:VCALENDAR
