BEGIN:VCALENDAR
VERSION:2.0
PRODID:-//Plone.org//NONSGML plone.app.event//EN
X-WR-TIMEZONE:America/Sao_Paulo
BEGIN:VEVENT
SUMMARY:10ª Semana da Integração: Ensino\, Pesquisa e Extensão (Sinteg
 ra)
DTSTART;VALUE=DATE:20241007
DTEND;VALUE=DATE:20241011
DTSTAMP;VALUE=DATE-TIME:20260422T234909Z
UID:e9a2524f44664c2e9a6fc8129f4e9d80@portal.ufvjm.edu.br
CONTACT:https://www.even3.com.br/sintegra2024/
CREATED;VALUE=DATE-TIME:20240723T175022Z
DESCRIPTION:7 a 10 de outubro
LAST-MODIFIED;VALUE=DATE-TIME:20240723T183604Z
LOCATION:Campus JK
URL:https://portal.ufvjm.edu.br/agendas/eventos/2024/10-semana-da-integrac
 ao-ensino-pesquisa-e-extensao-sintegra
END:VEVENT
END:VCALENDAR
