BEGIN:VCALENDAR
VERSION:2.0
PRODID:-//Plone.org//NONSGML plone.app.event//EN
X-WR-TIMEZONE:America/Sao_Paulo
BEGIN:VEVENT
SUMMARY:1º Simpósio de Pneumologia dos Vales
DTSTART;TZID=America/Sao_Paulo;VALUE=DATE-TIME:20241129T140000
DTEND;TZID=America/Sao_Paulo;VALUE=DATE-TIME:20241130T150000
DTSTAMP;VALUE=DATE-TIME:20260423T005106Z
UID:a8dc71e0a7594e9db69880117fabcdaa@portal.ufvjm.edu.br
CONTACT:https://www.sympla.com.br/evento/1-simposio-de-pneumologia-dos-val
 es-do-jequitinhonha-e-mucuri/2675129
CREATED;VALUE=DATE-TIME:20241016T173950Z
DESCRIPTION:29 e 30 de novembro
LAST-MODIFIED;VALUE=DATE-TIME:20241016T174017Z
LOCATION:Diamantina\, MG
URL:https://portal.ufvjm.edu.br/agendas/eventos/2024/1-simposio-de-pneumol
 ogia-dos-vales
END:VEVENT
BEGIN:VTIMEZONE
TZID:America/Sao_Paulo
X-LIC-LOCATION:America/Sao_Paulo
BEGIN:DAYLIGHT
DTSTART;VALUE=DATE-TIME:20241020T010000
TZNAME:BRST
TZOFFSETFROM:-0300
TZOFFSETTO:-0200
END:DAYLIGHT
END:VTIMEZONE
END:VCALENDAR
